BEGIN:VCALENDAR
VERSION:2.0
PRODID:-//Boyne City Farmers Market - ECPv6.15.18//NONSGML v1.0//EN
CALSCALE:GREGORIAN
METHOD:PUBLISH
X-WR-CALNAME:Boyne City Farmers Market
X-ORIGINAL-URL:https://boynecityfarmersmarket.org
X-WR-CALDESC:Events for Boyne City Farmers Market
REFRESH-INTERVAL;VALUE=DURATION:PT1H
X-Robots-Tag:noindex
X-PUBLISHED-TTL:PT1H
BEGIN:VTIMEZONE
TZID:UTC
BEGIN:STANDARD
TZOFFSETFROM:+0000
TZOFFSETTO:+0000
TZNAME:UTC
DTSTART:20220101T000000
END:STANDARD
END:VTIMEZONE
BEGIN:VEVENT
DTSTART;TZID=UTC:20240710T080000
DTEND;TZID=UTC:20240710T120000
DTSTAMP:20260421T101113
CREATED:20231106T134813Z
LAST-MODIFIED:20231106T134813Z
UID:10000497-1720598400-1720612800@boynecityfarmersmarket.org
SUMMARY:Boyne City Farmers Market
DESCRIPTION:Join us every Wednesday and Saturday to shop for local fruits & vegetables\, fresh baked goods\, artisan foods and artwork. Northern Michigan’s most talented farmers\, bakers\, entrepreneurs and artists create a market unlike any other in the region. Stop in to see why we are the best Up North Market!
URL:https://boynecityfarmersmarket.org/event/boyne-city-farmers-market-6/2024-07-10/
LOCATION:Veterans Park\, 207 N Lake St.\, Boyne City\, MI\, 49712\, United States
ATTACH;FMTTYPE=image/jpeg:https://boynecityfarmersmarket.org/wp-content/uploads/sites/2/2023/03/berg2.jpg
ORGANIZER;CN="Boyne City Farmers Market":MAILTO:farmersmarket@boynecity.com
END:VEVENT
BEGIN:VEVENT
DTSTART;TZID=UTC:20240706T080000
DTEND;TZID=UTC:20240706T120000
DTSTAMP:20260421T101113
CREATED:20231106T134813Z
LAST-MODIFIED:20231106T134813Z
UID:10000496-1720252800-1720267200@boynecityfarmersmarket.org
SUMMARY:Boyne City Farmers Market
DESCRIPTION:Join us every Wednesday and Saturday to shop for local fruits & vegetables\, fresh baked goods\, artisan foods and artwork. Northern Michigan’s most talented farmers\, bakers\, entrepreneurs and artists create a market unlike any other in the region. Stop in to see why we are the best Up North Market!
URL:https://boynecityfarmersmarket.org/event/boyne-city-farmers-market-6/2024-07-06/
LOCATION:Veterans Park\, 207 N Lake St.\, Boyne City\, MI\, 49712\, United States
ATTACH;FMTTYPE=image/jpeg:https://boynecityfarmersmarket.org/wp-content/uploads/sites/2/2023/03/berg2.jpg
ORGANIZER;CN="Boyne City Farmers Market":MAILTO:farmersmarket@boynecity.com
END:VEVENT
BEGIN:VEVENT
DTSTART;TZID=UTC:20240703T080000
DTEND;TZID=UTC:20240703T120000
DTSTAMP:20260421T101113
CREATED:20231106T134813Z
LAST-MODIFIED:20231106T134813Z
UID:10000495-1719993600-1720008000@boynecityfarmersmarket.org
SUMMARY:Boyne City Farmers Market
DESCRIPTION:Join us every Wednesday and Saturday to shop for local fruits & vegetables\, fresh baked goods\, artisan foods and artwork. Northern Michigan’s most talented farmers\, bakers\, entrepreneurs and artists create a market unlike any other in the region. Stop in to see why we are the best Up North Market!
URL:https://boynecityfarmersmarket.org/event/boyne-city-farmers-market-6/2024-07-03/
LOCATION:Veterans Park\, 207 N Lake St.\, Boyne City\, MI\, 49712\, United States
ATTACH;FMTTYPE=image/jpeg:https://boynecityfarmersmarket.org/wp-content/uploads/sites/2/2023/03/berg2.jpg
ORGANIZER;CN="Boyne City Farmers Market":MAILTO:farmersmarket@boynecity.com
END:VEVENT
BEGIN:VEVENT
DTSTART;TZID=UTC:20240629T080000
DTEND;TZID=UTC:20240629T120000
DTSTAMP:20260421T101113
CREATED:20231106T134813Z
LAST-MODIFIED:20231106T134813Z
UID:10000494-1719648000-1719662400@boynecityfarmersmarket.org
SUMMARY:Boyne City Farmers Market
DESCRIPTION:Join us every Wednesday and Saturday to shop for local fruits & vegetables\, fresh baked goods\, artisan foods and artwork. Northern Michigan’s most talented farmers\, bakers\, entrepreneurs and artists create a market unlike any other in the region. Stop in to see why we are the best Up North Market!
URL:https://boynecityfarmersmarket.org/event/boyne-city-farmers-market-6/2024-06-29/
LOCATION:Veterans Park\, 207 N Lake St.\, Boyne City\, MI\, 49712\, United States
ATTACH;FMTTYPE=image/jpeg:https://boynecityfarmersmarket.org/wp-content/uploads/sites/2/2023/03/berg2.jpg
ORGANIZER;CN="Boyne City Farmers Market":MAILTO:farmersmarket@boynecity.com
END:VEVENT
BEGIN:VEVENT
DTSTART;TZID=UTC:20240626T080000
DTEND;TZID=UTC:20240626T120000
DTSTAMP:20260421T101113
CREATED:20231106T134813Z
LAST-MODIFIED:20231106T134813Z
UID:10000493-1719388800-1719403200@boynecityfarmersmarket.org
SUMMARY:Boyne City Farmers Market
DESCRIPTION:Join us every Wednesday and Saturday to shop for local fruits & vegetables\, fresh baked goods\, artisan foods and artwork. Northern Michigan’s most talented farmers\, bakers\, entrepreneurs and artists create a market unlike any other in the region. Stop in to see why we are the best Up North Market!
URL:https://boynecityfarmersmarket.org/event/boyne-city-farmers-market-6/2024-06-26/
LOCATION:Veterans Park\, 207 N Lake St.\, Boyne City\, MI\, 49712\, United States
ATTACH;FMTTYPE=image/jpeg:https://boynecityfarmersmarket.org/wp-content/uploads/sites/2/2023/03/berg2.jpg
ORGANIZER;CN="Boyne City Farmers Market":MAILTO:farmersmarket@boynecity.com
END:VEVENT
BEGIN:VEVENT
DTSTART;TZID=UTC:20240622T080000
DTEND;TZID=UTC:20240622T120000
DTSTAMP:20260421T101113
CREATED:20231106T134813Z
LAST-MODIFIED:20231106T134813Z
UID:10000492-1719043200-1719057600@boynecityfarmersmarket.org
SUMMARY:Boyne City Farmers Market
DESCRIPTION:Join us every Wednesday and Saturday to shop for local fruits & vegetables\, fresh baked goods\, artisan foods and artwork. Northern Michigan’s most talented farmers\, bakers\, entrepreneurs and artists create a market unlike any other in the region. Stop in to see why we are the best Up North Market!
URL:https://boynecityfarmersmarket.org/event/boyne-city-farmers-market-6/2024-06-22/
LOCATION:Veterans Park\, 207 N Lake St.\, Boyne City\, MI\, 49712\, United States
ATTACH;FMTTYPE=image/jpeg:https://boynecityfarmersmarket.org/wp-content/uploads/sites/2/2023/03/berg2.jpg
ORGANIZER;CN="Boyne City Farmers Market":MAILTO:farmersmarket@boynecity.com
END:VEVENT
BEGIN:VEVENT
DTSTART;TZID=UTC:20240619T080000
DTEND;TZID=UTC:20240619T120000
DTSTAMP:20260421T101113
CREATED:20231106T134813Z
LAST-MODIFIED:20231106T134813Z
UID:10000491-1718784000-1718798400@boynecityfarmersmarket.org
SUMMARY:Boyne City Farmers Market
DESCRIPTION:Join us every Wednesday and Saturday to shop for local fruits & vegetables\, fresh baked goods\, artisan foods and artwork. Northern Michigan’s most talented farmers\, bakers\, entrepreneurs and artists create a market unlike any other in the region. Stop in to see why we are the best Up North Market!
URL:https://boynecityfarmersmarket.org/event/boyne-city-farmers-market-6/2024-06-19/
LOCATION:Veterans Park\, 207 N Lake St.\, Boyne City\, MI\, 49712\, United States
ATTACH;FMTTYPE=image/jpeg:https://boynecityfarmersmarket.org/wp-content/uploads/sites/2/2023/03/berg2.jpg
ORGANIZER;CN="Boyne City Farmers Market":MAILTO:farmersmarket@boynecity.com
END:VEVENT
BEGIN:VEVENT
DTSTART;TZID=UTC:20240615T080000
DTEND;TZID=UTC:20240615T120000
DTSTAMP:20260421T101113
CREATED:20231106T134813Z
LAST-MODIFIED:20231106T134813Z
UID:10000490-1718438400-1718452800@boynecityfarmersmarket.org
SUMMARY:Boyne City Farmers Market
DESCRIPTION:Join us every Wednesday and Saturday to shop for local fruits & vegetables\, fresh baked goods\, artisan foods and artwork. Northern Michigan’s most talented farmers\, bakers\, entrepreneurs and artists create a market unlike any other in the region. Stop in to see why we are the best Up North Market!
URL:https://boynecityfarmersmarket.org/event/boyne-city-farmers-market-6/2024-06-15/
LOCATION:Veterans Park\, 207 N Lake St.\, Boyne City\, MI\, 49712\, United States
ATTACH;FMTTYPE=image/jpeg:https://boynecityfarmersmarket.org/wp-content/uploads/sites/2/2023/03/berg2.jpg
ORGANIZER;CN="Boyne City Farmers Market":MAILTO:farmersmarket@boynecity.com
END:VEVENT
BEGIN:VEVENT
DTSTART;TZID=UTC:20240612T080000
DTEND;TZID=UTC:20240612T120000
DTSTAMP:20260421T101113
CREATED:20231106T134813Z
LAST-MODIFIED:20231106T134813Z
UID:10000489-1718179200-1718193600@boynecityfarmersmarket.org
SUMMARY:Boyne City Farmers Market
DESCRIPTION:Join us every Wednesday and Saturday to shop for local fruits & vegetables\, fresh baked goods\, artisan foods and artwork. Northern Michigan’s most talented farmers\, bakers\, entrepreneurs and artists create a market unlike any other in the region. Stop in to see why we are the best Up North Market!
URL:https://boynecityfarmersmarket.org/event/boyne-city-farmers-market-6/2024-06-12/
LOCATION:Veterans Park\, 207 N Lake St.\, Boyne City\, MI\, 49712\, United States
ATTACH;FMTTYPE=image/jpeg:https://boynecityfarmersmarket.org/wp-content/uploads/sites/2/2023/03/berg2.jpg
ORGANIZER;CN="Boyne City Farmers Market":MAILTO:farmersmarket@boynecity.com
END:VEVENT
BEGIN:VEVENT
DTSTART;TZID=UTC:20240608T080000
DTEND;TZID=UTC:20240608T120000
DTSTAMP:20260421T101113
CREATED:20231106T134813Z
LAST-MODIFIED:20231106T134813Z
UID:10000488-1717833600-1717848000@boynecityfarmersmarket.org
SUMMARY:Boyne City Farmers Market
DESCRIPTION:Join us every Wednesday and Saturday to shop for local fruits & vegetables\, fresh baked goods\, artisan foods and artwork. Northern Michigan’s most talented farmers\, bakers\, entrepreneurs and artists create a market unlike any other in the region. Stop in to see why we are the best Up North Market!
URL:https://boynecityfarmersmarket.org/event/boyne-city-farmers-market-6/2024-06-08/
LOCATION:Veterans Park\, 207 N Lake St.\, Boyne City\, MI\, 49712\, United States
ATTACH;FMTTYPE=image/jpeg:https://boynecityfarmersmarket.org/wp-content/uploads/sites/2/2023/03/berg2.jpg
ORGANIZER;CN="Boyne City Farmers Market":MAILTO:farmersmarket@boynecity.com
END:VEVENT
BEGIN:VEVENT
DTSTART;TZID=UTC:20240605T080000
DTEND;TZID=UTC:20240605T120000
DTSTAMP:20260421T101113
CREATED:20231106T134813Z
LAST-MODIFIED:20231106T134813Z
UID:10000487-1717574400-1717588800@boynecityfarmersmarket.org
SUMMARY:Boyne City Farmers Market
DESCRIPTION:Join us every Wednesday and Saturday to shop for local fruits & vegetables\, fresh baked goods\, artisan foods and artwork. Northern Michigan’s most talented farmers\, bakers\, entrepreneurs and artists create a market unlike any other in the region. Stop in to see why we are the best Up North Market!
URL:https://boynecityfarmersmarket.org/event/boyne-city-farmers-market-6/2024-06-05/
LOCATION:Veterans Park\, 207 N Lake St.\, Boyne City\, MI\, 49712\, United States
ATTACH;FMTTYPE=image/jpeg:https://boynecityfarmersmarket.org/wp-content/uploads/sites/2/2023/03/berg2.jpg
ORGANIZER;CN="Boyne City Farmers Market":MAILTO:farmersmarket@boynecity.com
END:VEVENT
BEGIN:VEVENT
DTSTART;TZID=UTC:20240601T080000
DTEND;TZID=UTC:20240601T120000
DTSTAMP:20260421T101113
CREATED:20231106T134813Z
LAST-MODIFIED:20231106T134813Z
UID:10000486-1717228800-1717243200@boynecityfarmersmarket.org
SUMMARY:Boyne City Farmers Market
DESCRIPTION:Join us every Wednesday and Saturday to shop for local fruits & vegetables\, fresh baked goods\, artisan foods and artwork. Northern Michigan’s most talented farmers\, bakers\, entrepreneurs and artists create a market unlike any other in the region. Stop in to see why we are the best Up North Market!
URL:https://boynecityfarmersmarket.org/event/boyne-city-farmers-market-6/2024-06-01/
LOCATION:Veterans Park\, 207 N Lake St.\, Boyne City\, MI\, 49712\, United States
ATTACH;FMTTYPE=image/jpeg:https://boynecityfarmersmarket.org/wp-content/uploads/sites/2/2023/03/berg2.jpg
ORGANIZER;CN="Boyne City Farmers Market":MAILTO:farmersmarket@boynecity.com
END:VEVENT
BEGIN:VEVENT
DTSTART;TZID=UTC:20240529T080000
DTEND;TZID=UTC:20240529T120000
DTSTAMP:20260421T101113
CREATED:20231106T134813Z
LAST-MODIFIED:20231106T134813Z
UID:10000485-1716969600-1716984000@boynecityfarmersmarket.org
SUMMARY:Boyne City Farmers Market
DESCRIPTION:Join us every Wednesday and Saturday to shop for local fruits & vegetables\, fresh baked goods\, artisan foods and artwork. Northern Michigan’s most talented farmers\, bakers\, entrepreneurs and artists create a market unlike any other in the region. Stop in to see why we are the best Up North Market!
URL:https://boynecityfarmersmarket.org/event/boyne-city-farmers-market-6/2024-05-29/
LOCATION:Veterans Park\, 207 N Lake St.\, Boyne City\, MI\, 49712\, United States
ATTACH;FMTTYPE=image/jpeg:https://boynecityfarmersmarket.org/wp-content/uploads/sites/2/2023/03/berg2.jpg
ORGANIZER;CN="Boyne City Farmers Market":MAILTO:farmersmarket@boynecity.com
END:VEVENT
BEGIN:VEVENT
DTSTART;TZID=UTC:20240525T080000
DTEND;TZID=UTC:20240525T120000
DTSTAMP:20260421T101113
CREATED:20231106T134813Z
LAST-MODIFIED:20231106T134813Z
UID:10000484-1716624000-1716638400@boynecityfarmersmarket.org
SUMMARY:Boyne City Farmers Market
DESCRIPTION:Join us every Wednesday and Saturday to shop for local fruits & vegetables\, fresh baked goods\, artisan foods and artwork. Northern Michigan’s most talented farmers\, bakers\, entrepreneurs and artists create a market unlike any other in the region. Stop in to see why we are the best Up North Market!
URL:https://boynecityfarmersmarket.org/event/boyne-city-farmers-market-6/2024-05-25/
LOCATION:Veterans Park\, 207 N Lake St.\, Boyne City\, MI\, 49712\, United States
ATTACH;FMTTYPE=image/jpeg:https://boynecityfarmersmarket.org/wp-content/uploads/sites/2/2023/03/berg2.jpg
ORGANIZER;CN="Boyne City Farmers Market":MAILTO:farmersmarket@boynecity.com
END:VEVENT
BEGIN:VEVENT
DTSTART;TZID=UTC:20240522T080000
DTEND;TZID=UTC:20240522T120000
DTSTAMP:20260421T101113
CREATED:20231106T134813Z
LAST-MODIFIED:20231106T134813Z
UID:10000483-1716364800-1716379200@boynecityfarmersmarket.org
SUMMARY:Boyne City Farmers Market
DESCRIPTION:Join us every Wednesday and Saturday to shop for local fruits & vegetables\, fresh baked goods\, artisan foods and artwork. Northern Michigan’s most talented farmers\, bakers\, entrepreneurs and artists create a market unlike any other in the region. Stop in to see why we are the best Up North Market!
URL:https://boynecityfarmersmarket.org/event/boyne-city-farmers-market-6/2024-05-22/
LOCATION:Veterans Park\, 207 N Lake St.\, Boyne City\, MI\, 49712\, United States
ATTACH;FMTTYPE=image/jpeg:https://boynecityfarmersmarket.org/wp-content/uploads/sites/2/2023/03/berg2.jpg
ORGANIZER;CN="Boyne City Farmers Market":MAILTO:farmersmarket@boynecity.com
END:VEVENT
BEGIN:VEVENT
DTSTART;TZID=UTC:20240518T080000
DTEND;TZID=UTC:20240518T120000
DTSTAMP:20260421T101113
CREATED:20231106T134813Z
LAST-MODIFIED:20231106T134813Z
UID:10000482-1716019200-1716033600@boynecityfarmersmarket.org
SUMMARY:Boyne City Farmers Market
DESCRIPTION:Join us every Wednesday and Saturday to shop for local fruits & vegetables\, fresh baked goods\, artisan foods and artwork. Northern Michigan’s most talented farmers\, bakers\, entrepreneurs and artists create a market unlike any other in the region. Stop in to see why we are the best Up North Market!
URL:https://boynecityfarmersmarket.org/event/boyne-city-farmers-market-6/2024-05-18/
LOCATION:Veterans Park\, 207 N Lake St.\, Boyne City\, MI\, 49712\, United States
ATTACH;FMTTYPE=image/jpeg:https://boynecityfarmersmarket.org/wp-content/uploads/sites/2/2023/03/berg2.jpg
ORGANIZER;CN="Boyne City Farmers Market":MAILTO:farmersmarket@boynecity.com
END:VEVENT
BEGIN:VEVENT
DTSTART;TZID=UTC:20231014T080000
DTEND;TZID=UTC:20231014T120000
DTSTAMP:20260421T101113
CREATED:20230408T150846Z
LAST-MODIFIED:20230517T164524Z
UID:10000044-1697270400-1697284800@boynecityfarmersmarket.org
SUMMARY:Boyne City Farmers Market
DESCRIPTION:Join us every Wednesday and Saturday to shop for local fruits & vegetables\, fresh baked goods\, artisan foods and artwork. Northern Michigan’s most talented farmers\, bakers\, entrepreneurs and artists create a market unlike any other in the region. Stop in to see why we are the best Up North Market!
URL:https://boynecityfarmersmarket.org/event/boyne-city-farmers-market/2023-10-14/
LOCATION:Veterans Park\, 207 N Lake St.\, Boyne City\, MI\, 49712\, United States
CATEGORIES:Boyne City Farmers Market Event
ATTACH;FMTTYPE=image/png:https://boynecityfarmersmarket.org/wp-content/uploads/sites/2/2023/04/fm10.png
ORGANIZER;CN="Boyne City Farmers Market":MAILTO:farmersmarket@boynecity.com
END:VEVENT
BEGIN:VEVENT
DTSTART;TZID=UTC:20231011T080000
DTEND;TZID=UTC:20231011T120000
DTSTAMP:20260421T101113
CREATED:20230408T150846Z
LAST-MODIFIED:20230517T164524Z
UID:10000043-1697011200-1697025600@boynecityfarmersmarket.org
SUMMARY:Boyne City Farmers Market
DESCRIPTION:Join us every Wednesday and Saturday to shop for local fruits & vegetables\, fresh baked goods\, artisan foods and artwork. Northern Michigan’s most talented farmers\, bakers\, entrepreneurs and artists create a market unlike any other in the region. Stop in to see why we are the best Up North Market!
URL:https://boynecityfarmersmarket.org/event/boyne-city-farmers-market/2023-10-11/
LOCATION:Veterans Park\, 207 N Lake St.\, Boyne City\, MI\, 49712\, United States
CATEGORIES:Boyne City Farmers Market Event
ATTACH;FMTTYPE=image/png:https://boynecityfarmersmarket.org/wp-content/uploads/sites/2/2023/04/fm10.png
ORGANIZER;CN="Boyne City Farmers Market":MAILTO:farmersmarket@boynecity.com
END:VEVENT
BEGIN:VEVENT
DTSTART;TZID=UTC:20231007T080000
DTEND;TZID=UTC:20231007T120000
DTSTAMP:20260421T101113
CREATED:20230408T150846Z
LAST-MODIFIED:20230517T164524Z
UID:10000042-1696665600-1696680000@boynecityfarmersmarket.org
SUMMARY:Boyne City Farmers Market
DESCRIPTION:Join us every Wednesday and Saturday to shop for local fruits & vegetables\, fresh baked goods\, artisan foods and artwork. Northern Michigan’s most talented farmers\, bakers\, entrepreneurs and artists create a market unlike any other in the region. Stop in to see why we are the best Up North Market!
URL:https://boynecityfarmersmarket.org/event/boyne-city-farmers-market/2023-10-07/
LOCATION:Veterans Park\, 207 N Lake St.\, Boyne City\, MI\, 49712\, United States
CATEGORIES:Boyne City Farmers Market Event
ATTACH;FMTTYPE=image/png:https://boynecityfarmersmarket.org/wp-content/uploads/sites/2/2023/04/fm10.png
ORGANIZER;CN="Boyne City Farmers Market":MAILTO:farmersmarket@boynecity.com
END:VEVENT
BEGIN:VEVENT
DTSTART;TZID=UTC:20231004T080000
DTEND;TZID=UTC:20231004T120000
DTSTAMP:20260421T101113
CREATED:20230408T150846Z
LAST-MODIFIED:20230517T164524Z
UID:10000041-1696406400-1696420800@boynecityfarmersmarket.org
SUMMARY:Boyne City Farmers Market
DESCRIPTION:Join us every Wednesday and Saturday to shop for local fruits & vegetables\, fresh baked goods\, artisan foods and artwork. Northern Michigan’s most talented farmers\, bakers\, entrepreneurs and artists create a market unlike any other in the region. Stop in to see why we are the best Up North Market!
URL:https://boynecityfarmersmarket.org/event/boyne-city-farmers-market/2023-10-04/
LOCATION:Veterans Park\, 207 N Lake St.\, Boyne City\, MI\, 49712\, United States
CATEGORIES:Boyne City Farmers Market Event
ATTACH;FMTTYPE=image/png:https://boynecityfarmersmarket.org/wp-content/uploads/sites/2/2023/04/fm10.png
ORGANIZER;CN="Boyne City Farmers Market":MAILTO:farmersmarket@boynecity.com
END:VEVENT
BEGIN:VEVENT
DTSTART;TZID=UTC:20230927T080000
DTEND;TZID=UTC:20230927T120000
DTSTAMP:20260421T101113
CREATED:20230408T150846Z
LAST-MODIFIED:20230517T164524Z
UID:10000039-1695801600-1695816000@boynecityfarmersmarket.org
SUMMARY:Boyne City Farmers Market
DESCRIPTION:Join us every Wednesday and Saturday to shop for local fruits & vegetables\, fresh baked goods\, artisan foods and artwork. Northern Michigan’s most talented farmers\, bakers\, entrepreneurs and artists create a market unlike any other in the region. Stop in to see why we are the best Up North Market!
URL:https://boynecityfarmersmarket.org/event/boyne-city-farmers-market/2023-09-27/
LOCATION:Veterans Park\, 207 N Lake St.\, Boyne City\, MI\, 49712\, United States
CATEGORIES:Boyne City Farmers Market Event
ATTACH;FMTTYPE=image/png:https://boynecityfarmersmarket.org/wp-content/uploads/sites/2/2023/04/fm10.png
ORGANIZER;CN="Boyne City Farmers Market":MAILTO:farmersmarket@boynecity.com
END:VEVENT
BEGIN:VEVENT
DTSTART;TZID=UTC:20230923T080000
DTEND;TZID=UTC:20230923T120000
DTSTAMP:20260421T101113
CREATED:20230408T150846Z
LAST-MODIFIED:20230517T164524Z
UID:10000038-1695456000-1695470400@boynecityfarmersmarket.org
SUMMARY:Boyne City Farmers Market
DESCRIPTION:Join us every Wednesday and Saturday to shop for local fruits & vegetables\, fresh baked goods\, artisan foods and artwork. Northern Michigan’s most talented farmers\, bakers\, entrepreneurs and artists create a market unlike any other in the region. Stop in to see why we are the best Up North Market!
URL:https://boynecityfarmersmarket.org/event/boyne-city-farmers-market/2023-09-23/
LOCATION:Veterans Park\, 207 N Lake St.\, Boyne City\, MI\, 49712\, United States
CATEGORIES:Boyne City Farmers Market Event
ATTACH;FMTTYPE=image/png:https://boynecityfarmersmarket.org/wp-content/uploads/sites/2/2023/04/fm10.png
ORGANIZER;CN="Boyne City Farmers Market":MAILTO:farmersmarket@boynecity.com
END:VEVENT
BEGIN:VEVENT
DTSTART;TZID=UTC:20230920T080000
DTEND;TZID=UTC:20230920T120000
DTSTAMP:20260421T101113
CREATED:20230408T150846Z
LAST-MODIFIED:20230517T164524Z
UID:10000037-1695196800-1695211200@boynecityfarmersmarket.org
SUMMARY:Boyne City Farmers Market
DESCRIPTION:Join us every Wednesday and Saturday to shop for local fruits & vegetables\, fresh baked goods\, artisan foods and artwork. Northern Michigan’s most talented farmers\, bakers\, entrepreneurs and artists create a market unlike any other in the region. Stop in to see why we are the best Up North Market!
URL:https://boynecityfarmersmarket.org/event/boyne-city-farmers-market/2023-09-20/
LOCATION:Veterans Park\, 207 N Lake St.\, Boyne City\, MI\, 49712\, United States
CATEGORIES:Boyne City Farmers Market Event
ATTACH;FMTTYPE=image/png:https://boynecityfarmersmarket.org/wp-content/uploads/sites/2/2023/04/fm10.png
ORGANIZER;CN="Boyne City Farmers Market":MAILTO:farmersmarket@boynecity.com
END:VEVENT
BEGIN:VEVENT
DTSTART;TZID=UTC:20230916T080000
DTEND;TZID=UTC:20230916T120000
DTSTAMP:20260421T101113
CREATED:20230408T150846Z
LAST-MODIFIED:20230517T164524Z
UID:10000036-1694851200-1694865600@boynecityfarmersmarket.org
SUMMARY:Boyne City Farmers Market
DESCRIPTION:Join us every Wednesday and Saturday to shop for local fruits & vegetables\, fresh baked goods\, artisan foods and artwork. Northern Michigan’s most talented farmers\, bakers\, entrepreneurs and artists create a market unlike any other in the region. Stop in to see why we are the best Up North Market!
URL:https://boynecityfarmersmarket.org/event/boyne-city-farmers-market/2023-09-16/
LOCATION:Veterans Park\, 207 N Lake St.\, Boyne City\, MI\, 49712\, United States
CATEGORIES:Boyne City Farmers Market Event
ATTACH;FMTTYPE=image/png:https://boynecityfarmersmarket.org/wp-content/uploads/sites/2/2023/04/fm10.png
ORGANIZER;CN="Boyne City Farmers Market":MAILTO:farmersmarket@boynecity.com
END:VEVENT
BEGIN:VEVENT
DTSTART;TZID=UTC:20230913T080000
DTEND;TZID=UTC:20230913T120000
DTSTAMP:20260421T101113
CREATED:20230408T150846Z
LAST-MODIFIED:20230517T164524Z
UID:10000035-1694592000-1694606400@boynecityfarmersmarket.org
SUMMARY:Boyne City Farmers Market
DESCRIPTION:Join us every Wednesday and Saturday to shop for local fruits & vegetables\, fresh baked goods\, artisan foods and artwork. Northern Michigan’s most talented farmers\, bakers\, entrepreneurs and artists create a market unlike any other in the region. Stop in to see why we are the best Up North Market!
URL:https://boynecityfarmersmarket.org/event/boyne-city-farmers-market/2023-09-13/
LOCATION:Veterans Park\, 207 N Lake St.\, Boyne City\, MI\, 49712\, United States
CATEGORIES:Boyne City Farmers Market Event
ATTACH;FMTTYPE=image/png:https://boynecityfarmersmarket.org/wp-content/uploads/sites/2/2023/04/fm10.png
ORGANIZER;CN="Boyne City Farmers Market":MAILTO:farmersmarket@boynecity.com
END:VEVENT
BEGIN:VEVENT
DTSTART;TZID=UTC:20230909T080000
DTEND;TZID=UTC:20230909T120000
DTSTAMP:20260421T101113
CREATED:20230408T150846Z
LAST-MODIFIED:20230517T164524Z
UID:10000034-1694246400-1694260800@boynecityfarmersmarket.org
SUMMARY:Boyne City Farmers Market
DESCRIPTION:Join us every Wednesday and Saturday to shop for local fruits & vegetables\, fresh baked goods\, artisan foods and artwork. Northern Michigan’s most talented farmers\, bakers\, entrepreneurs and artists create a market unlike any other in the region. Stop in to see why we are the best Up North Market!
URL:https://boynecityfarmersmarket.org/event/boyne-city-farmers-market/2023-09-09/
LOCATION:Veterans Park\, 207 N Lake St.\, Boyne City\, MI\, 49712\, United States
CATEGORIES:Boyne City Farmers Market Event
ATTACH;FMTTYPE=image/png:https://boynecityfarmersmarket.org/wp-content/uploads/sites/2/2023/04/fm10.png
ORGANIZER;CN="Boyne City Farmers Market":MAILTO:farmersmarket@boynecity.com
END:VEVENT
BEGIN:VEVENT
DTSTART;TZID=UTC:20230906T080000
DTEND;TZID=UTC:20230906T120000
DTSTAMP:20260421T101113
CREATED:20230408T150846Z
LAST-MODIFIED:20230517T164524Z
UID:10000033-1693987200-1694001600@boynecityfarmersmarket.org
SUMMARY:Boyne City Farmers Market
DESCRIPTION:Join us every Wednesday and Saturday to shop for local fruits & vegetables\, fresh baked goods\, artisan foods and artwork. Northern Michigan’s most talented farmers\, bakers\, entrepreneurs and artists create a market unlike any other in the region. Stop in to see why we are the best Up North Market!
URL:https://boynecityfarmersmarket.org/event/boyne-city-farmers-market/2023-09-06/
LOCATION:Veterans Park\, 207 N Lake St.\, Boyne City\, MI\, 49712\, United States
CATEGORIES:Boyne City Farmers Market Event
ATTACH;FMTTYPE=image/png:https://boynecityfarmersmarket.org/wp-content/uploads/sites/2/2023/04/fm10.png
ORGANIZER;CN="Boyne City Farmers Market":MAILTO:farmersmarket@boynecity.com
END:VEVENT
BEGIN:VEVENT
DTSTART;TZID=UTC:20230902T080000
DTEND;TZID=UTC:20230902T120000
DTSTAMP:20260421T101113
CREATED:20230408T150846Z
LAST-MODIFIED:20230517T164524Z
UID:10000032-1693641600-1693656000@boynecityfarmersmarket.org
SUMMARY:Boyne City Farmers Market
DESCRIPTION:Join us every Wednesday and Saturday to shop for local fruits & vegetables\, fresh baked goods\, artisan foods and artwork. Northern Michigan’s most talented farmers\, bakers\, entrepreneurs and artists create a market unlike any other in the region. Stop in to see why we are the best Up North Market!
URL:https://boynecityfarmersmarket.org/event/boyne-city-farmers-market/2023-09-02/
LOCATION:Veterans Park\, 207 N Lake St.\, Boyne City\, MI\, 49712\, United States
CATEGORIES:Boyne City Farmers Market Event
ATTACH;FMTTYPE=image/png:https://boynecityfarmersmarket.org/wp-content/uploads/sites/2/2023/04/fm10.png
ORGANIZER;CN="Boyne City Farmers Market":MAILTO:farmersmarket@boynecity.com
END:VEVENT
BEGIN:VEVENT
DTSTART;TZID=UTC:20230830T080000
DTEND;TZID=UTC:20230830T120000
DTSTAMP:20260421T101113
CREATED:20230408T150846Z
LAST-MODIFIED:20230517T164524Z
UID:10000031-1693382400-1693396800@boynecityfarmersmarket.org
SUMMARY:Boyne City Farmers Market
DESCRIPTION:Join us every Wednesday and Saturday to shop for local fruits & vegetables\, fresh baked goods\, artisan foods and artwork. Northern Michigan’s most talented farmers\, bakers\, entrepreneurs and artists create a market unlike any other in the region. Stop in to see why we are the best Up North Market!
URL:https://boynecityfarmersmarket.org/event/boyne-city-farmers-market/2023-08-30/
LOCATION:Veterans Park\, 207 N Lake St.\, Boyne City\, MI\, 49712\, United States
CATEGORIES:Boyne City Farmers Market Event
ATTACH;FMTTYPE=image/png:https://boynecityfarmersmarket.org/wp-content/uploads/sites/2/2023/04/fm10.png
ORGANIZER;CN="Boyne City Farmers Market":MAILTO:farmersmarket@boynecity.com
END:VEVENT
BEGIN:VEVENT
DTSTART;TZID=UTC:20230826T080000
DTEND;TZID=UTC:20230826T120000
DTSTAMP:20260421T101113
CREATED:20230408T150846Z
LAST-MODIFIED:20230517T164524Z
UID:10000030-1693036800-1693051200@boynecityfarmersmarket.org
SUMMARY:Boyne City Farmers Market
DESCRIPTION:Join us every Wednesday and Saturday to shop for local fruits & vegetables\, fresh baked goods\, artisan foods and artwork. Northern Michigan’s most talented farmers\, bakers\, entrepreneurs and artists create a market unlike any other in the region. Stop in to see why we are the best Up North Market!
URL:https://boynecityfarmersmarket.org/event/boyne-city-farmers-market/2023-08-26/
LOCATION:Veterans Park\, 207 N Lake St.\, Boyne City\, MI\, 49712\, United States
CATEGORIES:Boyne City Farmers Market Event
ATTACH;FMTTYPE=image/png:https://boynecityfarmersmarket.org/wp-content/uploads/sites/2/2023/04/fm10.png
ORGANIZER;CN="Boyne City Farmers Market":MAILTO:farmersmarket@boynecity.com
END:VEVENT
END:VCALENDAR