BEGIN:VCALENDAR
VERSION:2.0
PRODID:-//Boyne City Farmers Market - ECPv6.15.18//NONSGML v1.0//EN
CALSCALE:GREGORIAN
METHOD:PUBLISH
X-ORIGINAL-URL:https://boynecityfarmersmarket.org
X-WR-CALDESC:Events for Boyne City Farmers Market
REFRESH-INTERVAL;VALUE=DURATION:PT1H
X-Robots-Tag:noindex
X-PUBLISHED-TTL:PT1H
BEGIN:VTIMEZONE
TZID:UTC
BEGIN:STANDARD
TZOFFSETFROM:+0000
TZOFFSETTO:+0000
TZNAME:UTC
DTSTART:20220101T000000
END:STANDARD
END:VTIMEZONE
BEGIN:VEVENT
DTSTART;TZID=UTC:20230705T080000
DTEND;TZID=UTC:20230705T120000
DTSTAMP:20260420T191047
CREATED:20230408T150846Z
LAST-MODIFIED:20230517T164524Z
UID:10000015-1688544000-1688558400@boynecityfarmersmarket.org
SUMMARY:Boyne City Farmers Market
DESCRIPTION:Join us every Wednesday and Saturday to shop for local fruits & vegetables\, fresh baked goods\, artisan foods and artwork. Northern Michigan’s most talented farmers\, bakers\, entrepreneurs and artists create a market unlike any other in the region. Stop in to see why we are the best Up North Market!
URL:https://boynecityfarmersmarket.org/event/boyne-city-farmers-market/2023-07-05/
LOCATION:Veterans Park\, 207 N Lake St.\, Boyne City\, MI\, 49712\, United States
CATEGORIES:Boyne City Farmers Market Event
ATTACH;FMTTYPE=image/png:https://boynecityfarmersmarket.org/wp-content/uploads/sites/2/2023/04/fm10.png
ORGANIZER;CN="Boyne City Farmers Market":MAILTO:farmersmarket@boynecity.com
END:VEVENT
BEGIN:VEVENT
DTSTART;TZID=UTC:20230701T080000
DTEND;TZID=UTC:20230701T120000
DTSTAMP:20260420T191047
CREATED:20230408T150846Z
LAST-MODIFIED:20230517T164524Z
UID:10000014-1688198400-1688212800@boynecityfarmersmarket.org
SUMMARY:Boyne City Farmers Market
DESCRIPTION:Join us every Wednesday and Saturday to shop for local fruits & vegetables\, fresh baked goods\, artisan foods and artwork. Northern Michigan’s most talented farmers\, bakers\, entrepreneurs and artists create a market unlike any other in the region. Stop in to see why we are the best Up North Market!
URL:https://boynecityfarmersmarket.org/event/boyne-city-farmers-market/2023-07-01/
LOCATION:Veterans Park\, 207 N Lake St.\, Boyne City\, MI\, 49712\, United States
CATEGORIES:Boyne City Farmers Market Event
ATTACH;FMTTYPE=image/png:https://boynecityfarmersmarket.org/wp-content/uploads/sites/2/2023/04/fm10.png
ORGANIZER;CN="Boyne City Farmers Market":MAILTO:farmersmarket@boynecity.com
END:VEVENT
BEGIN:VEVENT
DTSTART;TZID=UTC:20230628T080000
DTEND;TZID=UTC:20230628T120000
DTSTAMP:20260420T191047
CREATED:20230408T150846Z
LAST-MODIFIED:20230517T164524Z
UID:10000013-1687939200-1687953600@boynecityfarmersmarket.org
SUMMARY:Boyne City Farmers Market
DESCRIPTION:Join us every Wednesday and Saturday to shop for local fruits & vegetables\, fresh baked goods\, artisan foods and artwork. Northern Michigan’s most talented farmers\, bakers\, entrepreneurs and artists create a market unlike any other in the region. Stop in to see why we are the best Up North Market!
URL:https://boynecityfarmersmarket.org/event/boyne-city-farmers-market/2023-06-28/
LOCATION:Veterans Park\, 207 N Lake St.\, Boyne City\, MI\, 49712\, United States
CATEGORIES:Boyne City Farmers Market Event
ATTACH;FMTTYPE=image/png:https://boynecityfarmersmarket.org/wp-content/uploads/sites/2/2023/04/fm10.png
ORGANIZER;CN="Boyne City Farmers Market":MAILTO:farmersmarket@boynecity.com
END:VEVENT
BEGIN:VEVENT
DTSTART;TZID=UTC:20230624T080000
DTEND;TZID=UTC:20230624T120000
DTSTAMP:20260420T191047
CREATED:20230408T150846Z
LAST-MODIFIED:20230517T164524Z
UID:10000012-1687593600-1687608000@boynecityfarmersmarket.org
SUMMARY:Boyne City Farmers Market
DESCRIPTION:Join us every Wednesday and Saturday to shop for local fruits & vegetables\, fresh baked goods\, artisan foods and artwork. Northern Michigan’s most talented farmers\, bakers\, entrepreneurs and artists create a market unlike any other in the region. Stop in to see why we are the best Up North Market!
URL:https://boynecityfarmersmarket.org/event/boyne-city-farmers-market/2023-06-24/
LOCATION:Veterans Park\, 207 N Lake St.\, Boyne City\, MI\, 49712\, United States
CATEGORIES:Boyne City Farmers Market Event
ATTACH;FMTTYPE=image/png:https://boynecityfarmersmarket.org/wp-content/uploads/sites/2/2023/04/fm10.png
ORGANIZER;CN="Boyne City Farmers Market":MAILTO:farmersmarket@boynecity.com
END:VEVENT
BEGIN:VEVENT
DTSTART;TZID=UTC:20230621T080000
DTEND;TZID=UTC:20230621T120000
DTSTAMP:20260420T191047
CREATED:20230408T150846Z
LAST-MODIFIED:20230517T164524Z
UID:10000011-1687334400-1687348800@boynecityfarmersmarket.org
SUMMARY:Boyne City Farmers Market
DESCRIPTION:Join us every Wednesday and Saturday to shop for local fruits & vegetables\, fresh baked goods\, artisan foods and artwork. Northern Michigan’s most talented farmers\, bakers\, entrepreneurs and artists create a market unlike any other in the region. Stop in to see why we are the best Up North Market!
URL:https://boynecityfarmersmarket.org/event/boyne-city-farmers-market/2023-06-21/
LOCATION:Veterans Park\, 207 N Lake St.\, Boyne City\, MI\, 49712\, United States
CATEGORIES:Boyne City Farmers Market Event
ATTACH;FMTTYPE=image/png:https://boynecityfarmersmarket.org/wp-content/uploads/sites/2/2023/04/fm10.png
ORGANIZER;CN="Boyne City Farmers Market":MAILTO:farmersmarket@boynecity.com
END:VEVENT
BEGIN:VEVENT
DTSTART;TZID=UTC:20230617T080000
DTEND;TZID=UTC:20230617T120000
DTSTAMP:20260420T191047
CREATED:20230408T150846Z
LAST-MODIFIED:20230517T164524Z
UID:10000010-1686988800-1687003200@boynecityfarmersmarket.org
SUMMARY:Boyne City Farmers Market
DESCRIPTION:Join us every Wednesday and Saturday to shop for local fruits & vegetables\, fresh baked goods\, artisan foods and artwork. Northern Michigan’s most talented farmers\, bakers\, entrepreneurs and artists create a market unlike any other in the region. Stop in to see why we are the best Up North Market!
URL:https://boynecityfarmersmarket.org/event/boyne-city-farmers-market/2023-06-17/
LOCATION:Veterans Park\, 207 N Lake St.\, Boyne City\, MI\, 49712\, United States
CATEGORIES:Boyne City Farmers Market Event
ATTACH;FMTTYPE=image/png:https://boynecityfarmersmarket.org/wp-content/uploads/sites/2/2023/04/fm10.png
ORGANIZER;CN="Boyne City Farmers Market":MAILTO:farmersmarket@boynecity.com
END:VEVENT
BEGIN:VEVENT
DTSTART;TZID=UTC:20230614T080000
DTEND;TZID=UTC:20230614T120000
DTSTAMP:20260420T191047
CREATED:20230408T150846Z
LAST-MODIFIED:20230517T164524Z
UID:10000009-1686729600-1686744000@boynecityfarmersmarket.org
SUMMARY:Boyne City Farmers Market
DESCRIPTION:Join us every Wednesday and Saturday to shop for local fruits & vegetables\, fresh baked goods\, artisan foods and artwork. Northern Michigan’s most talented farmers\, bakers\, entrepreneurs and artists create a market unlike any other in the region. Stop in to see why we are the best Up North Market!
URL:https://boynecityfarmersmarket.org/event/boyne-city-farmers-market/2023-06-14/
LOCATION:Veterans Park\, 207 N Lake St.\, Boyne City\, MI\, 49712\, United States
CATEGORIES:Boyne City Farmers Market Event
ATTACH;FMTTYPE=image/png:https://boynecityfarmersmarket.org/wp-content/uploads/sites/2/2023/04/fm10.png
ORGANIZER;CN="Boyne City Farmers Market":MAILTO:farmersmarket@boynecity.com
END:VEVENT
BEGIN:VEVENT
DTSTART;TZID=UTC:20230610T080000
DTEND;TZID=UTC:20230610T120000
DTSTAMP:20260420T191047
CREATED:20230408T150846Z
LAST-MODIFIED:20230517T164524Z
UID:10000008-1686384000-1686398400@boynecityfarmersmarket.org
SUMMARY:Boyne City Farmers Market
DESCRIPTION:Join us every Wednesday and Saturday to shop for local fruits & vegetables\, fresh baked goods\, artisan foods and artwork. Northern Michigan’s most talented farmers\, bakers\, entrepreneurs and artists create a market unlike any other in the region. Stop in to see why we are the best Up North Market!
URL:https://boynecityfarmersmarket.org/event/boyne-city-farmers-market/2023-06-10/
LOCATION:Veterans Park\, 207 N Lake St.\, Boyne City\, MI\, 49712\, United States
CATEGORIES:Boyne City Farmers Market Event
ATTACH;FMTTYPE=image/png:https://boynecityfarmersmarket.org/wp-content/uploads/sites/2/2023/04/fm10.png
ORGANIZER;CN="Boyne City Farmers Market":MAILTO:farmersmarket@boynecity.com
END:VEVENT
BEGIN:VEVENT
DTSTART;TZID=UTC:20230607T080000
DTEND;TZID=UTC:20230607T120000
DTSTAMP:20260420T191047
CREATED:20230408T150846Z
LAST-MODIFIED:20230517T164524Z
UID:10000007-1686124800-1686139200@boynecityfarmersmarket.org
SUMMARY:Boyne City Farmers Market
DESCRIPTION:Join us every Wednesday and Saturday to shop for local fruits & vegetables\, fresh baked goods\, artisan foods and artwork. Northern Michigan’s most talented farmers\, bakers\, entrepreneurs and artists create a market unlike any other in the region. Stop in to see why we are the best Up North Market!
URL:https://boynecityfarmersmarket.org/event/boyne-city-farmers-market/2023-06-07/
LOCATION:Veterans Park\, 207 N Lake St.\, Boyne City\, MI\, 49712\, United States
CATEGORIES:Boyne City Farmers Market Event
ATTACH;FMTTYPE=image/png:https://boynecityfarmersmarket.org/wp-content/uploads/sites/2/2023/04/fm10.png
ORGANIZER;CN="Boyne City Farmers Market":MAILTO:farmersmarket@boynecity.com
END:VEVENT
BEGIN:VEVENT
DTSTART;TZID=UTC:20230603T080000
DTEND;TZID=UTC:20230603T120000
DTSTAMP:20260420T191047
CREATED:20230408T150846Z
LAST-MODIFIED:20230517T164524Z
UID:10000006-1685779200-1685793600@boynecityfarmersmarket.org
SUMMARY:Boyne City Farmers Market
DESCRIPTION:Join us every Wednesday and Saturday to shop for local fruits & vegetables\, fresh baked goods\, artisan foods and artwork. Northern Michigan’s most talented farmers\, bakers\, entrepreneurs and artists create a market unlike any other in the region. Stop in to see why we are the best Up North Market!
URL:https://boynecityfarmersmarket.org/event/boyne-city-farmers-market/2023-06-03/
LOCATION:Veterans Park\, 207 N Lake St.\, Boyne City\, MI\, 49712\, United States
CATEGORIES:Boyne City Farmers Market Event
ATTACH;FMTTYPE=image/png:https://boynecityfarmersmarket.org/wp-content/uploads/sites/2/2023/04/fm10.png
ORGANIZER;CN="Boyne City Farmers Market":MAILTO:farmersmarket@boynecity.com
END:VEVENT
BEGIN:VEVENT
DTSTART;TZID=UTC:20230531T080000
DTEND;TZID=UTC:20230531T120000
DTSTAMP:20260420T191047
CREATED:20230408T150846Z
LAST-MODIFIED:20230517T164524Z
UID:10000005-1685520000-1685534400@boynecityfarmersmarket.org
SUMMARY:Boyne City Farmers Market
DESCRIPTION:Join us every Wednesday and Saturday to shop for local fruits & vegetables\, fresh baked goods\, artisan foods and artwork. Northern Michigan’s most talented farmers\, bakers\, entrepreneurs and artists create a market unlike any other in the region. Stop in to see why we are the best Up North Market!
URL:https://boynecityfarmersmarket.org/event/boyne-city-farmers-market/2023-05-31/
LOCATION:Veterans Park\, 207 N Lake St.\, Boyne City\, MI\, 49712\, United States
CATEGORIES:Boyne City Farmers Market Event
ATTACH;FMTTYPE=image/png:https://boynecityfarmersmarket.org/wp-content/uploads/sites/2/2023/04/fm10.png
ORGANIZER;CN="Boyne City Farmers Market":MAILTO:farmersmarket@boynecity.com
END:VEVENT
BEGIN:VEVENT
DTSTART;TZID=UTC:20230527T080000
DTEND;TZID=UTC:20230527T120000
DTSTAMP:20260420T191047
CREATED:20230408T150846Z
LAST-MODIFIED:20230517T164524Z
UID:10000004-1685174400-1685188800@boynecityfarmersmarket.org
SUMMARY:Boyne City Farmers Market
DESCRIPTION:Join us every Wednesday and Saturday to shop for local fruits & vegetables\, fresh baked goods\, artisan foods and artwork. Northern Michigan’s most talented farmers\, bakers\, entrepreneurs and artists create a market unlike any other in the region. Stop in to see why we are the best Up North Market!
URL:https://boynecityfarmersmarket.org/event/boyne-city-farmers-market/2023-05-27/
LOCATION:Veterans Park\, 207 N Lake St.\, Boyne City\, MI\, 49712\, United States
CATEGORIES:Boyne City Farmers Market Event
ATTACH;FMTTYPE=image/png:https://boynecityfarmersmarket.org/wp-content/uploads/sites/2/2023/04/fm10.png
ORGANIZER;CN="Boyne City Farmers Market":MAILTO:farmersmarket@boynecity.com
END:VEVENT
BEGIN:VEVENT
DTSTART;TZID=UTC:20230524T080000
DTEND;TZID=UTC:20230524T120000
DTSTAMP:20260420T191047
CREATED:20230408T150846Z
LAST-MODIFIED:20230517T164524Z
UID:10000003-1684915200-1684929600@boynecityfarmersmarket.org
SUMMARY:Boyne City Farmers Market
DESCRIPTION:Join us every Wednesday and Saturday to shop for local fruits & vegetables\, fresh baked goods\, artisan foods and artwork. Northern Michigan’s most talented farmers\, bakers\, entrepreneurs and artists create a market unlike any other in the region. Stop in to see why we are the best Up North Market!
URL:https://boynecityfarmersmarket.org/event/boyne-city-farmers-market/2023-05-24/
LOCATION:Veterans Park\, 207 N Lake St.\, Boyne City\, MI\, 49712\, United States
CATEGORIES:Boyne City Farmers Market Event
ATTACH;FMTTYPE=image/png:https://boynecityfarmersmarket.org/wp-content/uploads/sites/2/2023/04/fm10.png
ORGANIZER;CN="Boyne City Farmers Market":MAILTO:farmersmarket@boynecity.com
END:VEVENT
BEGIN:VEVENT
DTSTART;TZID=UTC:20230520T080000
DTEND;TZID=UTC:20230520T120000
DTSTAMP:20260420T191047
CREATED:20230408T150846Z
LAST-MODIFIED:20230517T164524Z
UID:10000002-1684569600-1684584000@boynecityfarmersmarket.org
SUMMARY:Boyne City Farmers Market
DESCRIPTION:Join us every Wednesday and Saturday to shop for local fruits & vegetables\, fresh baked goods\, artisan foods and artwork. Northern Michigan’s most talented farmers\, bakers\, entrepreneurs and artists create a market unlike any other in the region. Stop in to see why we are the best Up North Market!
URL:https://boynecityfarmersmarket.org/event/boyne-city-farmers-market/2023-05-20/
LOCATION:Veterans Park\, 207 N Lake St.\, Boyne City\, MI\, 49712\, United States
CATEGORIES:Boyne City Farmers Market Event
ATTACH;FMTTYPE=image/png:https://boynecityfarmersmarket.org/wp-content/uploads/sites/2/2023/04/fm10.png
ORGANIZER;CN="Boyne City Farmers Market":MAILTO:farmersmarket@boynecity.com
END:VEVENT
BEGIN:VEVENT
DTSTART;TZID=UTC:20230513T090000
DTEND;TZID=UTC:20230513T120000
DTSTAMP:20260420T191047
CREATED:20230426T152909Z
LAST-MODIFIED:20230517T164637Z
UID:10000354-1683968400-1683979200@boynecityfarmersmarket.org
SUMMARY:Market at the Pavilion
DESCRIPTION:
URL:https://boynecityfarmersmarket.org/event/market-at-the-pavilion/2023-05-13/
LOCATION:Veterans Park Pavilion\, 207 N Lake St.\, Boyne City\, MI\, 49712\, United States
CATEGORIES:Boyne City Farmers Market Event
ATTACH;FMTTYPE=image/jpeg:https://boynecityfarmersmarket.org/wp-content/uploads/sites/2/2023/04/fm4.jpg
ORGANIZER;CN="Boyne City Farmers Market":MAILTO:farmersmarket@boynecity.com
END:VEVENT
BEGIN:VEVENT
DTSTART;TZID=UTC:20230429T090000
DTEND;TZID=UTC:20230429T120000
DTSTAMP:20260420T191047
CREATED:20230426T170219Z
LAST-MODIFIED:20230501T133836Z
UID:10000300-1682758800-1682769600@boynecityfarmersmarket.org
SUMMARY:Market at the Pavilion
DESCRIPTION:Live music with Chris Michels 10am- 12pm
URL:https://boynecityfarmersmarket.org/event/market-at-the-pavilion-2/
LOCATION:Veterans Park Pavilion\, 207 N Lake St.\, Boyne City\, MI\, 49712\, United States
CATEGORIES:Boyne City Farmers Market Event
ATTACH;FMTTYPE=image/jpeg:https://boynecityfarmersmarket.org/wp-content/uploads/sites/2/2023/04/fm4.jpg
ORGANIZER;CN="Boyne City Farmers Market":MAILTO:farmersmarket@boynecity.com
END:VEVENT
END:VCALENDAR